BEGIN:VCALENDAR
PRODID:-//Pixl8//Eventfolio//EN
VERSION:2.0
X-WR-TIMEZONE:Europe/London
CALSCALE:GREGORIAN
METHOD:PUBLISH
CLASS:PUBLIC
BEGIN:VTIMEZONE
TZID:Europe/London
LAST-MODIFIED:20260306T231828Z
TZURL:https://www.tzurl.org/zoneinfo-outlook/Europe/London
X-LIC-LOCATION:Europe/London
BEGIN:DAYLIGHT
TZNAME:BST
TZOFFSETFROM:+0000
TZOFFSETTO:+0100
DTSTART:19700329T010000
RRULE:FREQ=YEARLY;BYMONTH=3;BYDAY=-1SU
END:DAYLIGHT
BEGIN:STANDARD
TZNAME:GMT
TZOFFSETFROM:+0100
TZOFFSETTO:+0000
DTSTART:19701025T020000
RRULE:FREQ=YEARLY;BYMONTH=10;BYDAY=-1SU
END:STANDARD
END:VTIMEZONE
BEGIN:VEVENT
DTSTART;TZID=Europe/London:20260528T080000
DTEND;TZID=Europe/London:20260529T153000
DTSTAMP:20260420T130933Z
UID:{F6CE8B9F-A896-4FDB-A33653E80BD712E4}
LOCATION:Walter E. Washington Convention Center
SUMMARY:The Marketing, Membership, Communications +Tech Conference
DESCRIPTION:Meet the team and see demos of ReadyMembership.\n
 \n
 Event details: https://readymembership.com/insights-events/event-calendar/mmct26.html
PRIORITY:1
END:VEVENT
END:VCALENDAR