BEGIN:VCALENDAR
PRODID:-//Pixl8//Eventfolio//EN
VERSION:2.0
X-WR-TIMEZONE:Europe/London
CALSCALE:GREGORIAN
METHOD:PUBLISH
CLASS:PUBLIC
BEGIN:VTIMEZONE
TZID:Europe/London
LAST-MODIFIED:20260306T231828Z
TZURL:https://www.tzurl.org/zoneinfo-outlook/Europe/London
X-LIC-LOCATION:Europe/London
BEGIN:DAYLIGHT
TZNAME:BST
TZOFFSETFROM:+0000
TZOFFSETTO:+0100
DTSTART:19700329T010000
RRULE:FREQ=YEARLY;BYMONTH=3;BYDAY=-1SU
END:DAYLIGHT
BEGIN:STANDARD
TZNAME:GMT
TZOFFSETFROM:+0100
TZOFFSETTO:+0000
DTSTART:19701025T020000
RRULE:FREQ=YEARLY;BYMONTH=10;BYDAY=-1SU
END:STANDARD
END:VTIMEZONE
BEGIN:VEVENT
DTSTART;TZID=Europe/London:20260611T083000
DTEND;TZID=Europe/London:20260611T153000
DTSTAMP:20260421T092201Z
UID:{EAAEB943-53B1-4646-9E3ED04B28A8F23E}
LOCATION:London
SUMMARY:Membership Solutions Day 2026
DESCRIPTION:Join Membership Solutions Day 2026 — a free, interactive, face-to-face event designed to help membership professionals turn data into a strategic advantage.\n
 \n
 Event details: https://readymembership.com/insights-events/event-calendar/membership-solutions-day-2026.html
PRIORITY:1
END:VEVENT
END:VCALENDAR