BEGIN:VCALENDAR
PRODID:-//Pixl8//Eventfolio//EN
VERSION:2.0
X-WR-TIMEZONE:Europe/London
CALSCALE:GREGORIAN
METHOD:PUBLISH
CLASS:PUBLIC
BEGIN:VTIMEZONE
TZID:Europe/London
LAST-MODIFIED:20260306T231828Z
TZURL:https://www.tzurl.org/zoneinfo-outlook/Europe/London
X-LIC-LOCATION:Europe/London
BEGIN:DAYLIGHT
TZNAME:BST
TZOFFSETFROM:+0000
TZOFFSETTO:+0100
DTSTART:19700329T010000
RRULE:FREQ=YEARLY;BYMONTH=3;BYDAY=-1SU
END:DAYLIGHT
BEGIN:STANDARD
TZNAME:GMT
TZOFFSETFROM:+0100
TZOFFSETTO:+0000
DTSTART:19701025T020000
RRULE:FREQ=YEARLY;BYMONTH=10;BYDAY=-1SU
END:STANDARD
END:VTIMEZONE
BEGIN:VEVENT
DTSTART;TZID=Europe/London:20241118T080000
DTEND;TZID=Europe/London:20241120T153000
DTSTAMP:20260422T180321Z
UID:{074F4ECB-A35F-4170-BA5B632196E1E638}
LOCATION:Washington DC\, USA
SUMMARY:AMS Fest - Washington
DESCRIPTION:Meet the team and see demos of ReadyMembership at this technology festival for associations.\n
 \n
 Event details: https://readymembership.com/insights-events/event-calendar/ams-fest-washington.html
PRIORITY:1
END:VEVENT
END:VCALENDAR